BEGIN:VCALENDAR
VERSION:2.0
PRODID:-// - ECPv4.4.5//NONSGML v1.0//EN
CALSCALE:GREGORIAN
METHOD:PUBLISH
X-WR-CALNAME:
X-ORIGINAL-URL:http://cycling4health.lu
X-WR-CALDESC:Events for 
BEGIN:VEVENT
DTSTART;VALUE=DATE:20170708
DTEND;VALUE=DATE:20170708
DTSTAMP:20170621T113156
CREATED:20170422T151149Z
LAST-MODIFIED:20170422T151149Z
UID:567-1499472000-1499472000@cycling4health.lu
SUMMARY:Randonnées 50 km\, 87km\, 107 km
DESCRIPTION:
URL:http://cycling4health.lu/event/randonnees-50-km-87km-107-km/
CATEGORIES:Cyclisme
END:VEVENT
END:VCALENDAR